Package: LinkHD Version: 1.18.0 Command: rm -rf LinkHD.buildbin-libdir && mkdir LinkHD.buildbin-libdir && /Users/biocbuild/BBS/utils/build-universal.sh LinkHD_1.18.0.tar.gz /Library/Frameworks/R.framework/Resources/bin/R LinkHD.buildbin-libdir StartedAt: 2024-10-17 16:28:25 -0400 (Thu, 17 Oct 2024) EndedAt: 2024-10-17 16:29:33 -0400 (Thu, 17 Oct 2024) EllapsedTime: 67.1 seconds RetCode: 0 Status: OK PackageFile: LinkHD_1.18.0.tgz PackageFileSize: 2.085 MiB