Package: LinkHD Version: 1.18.0 Command: /home/biocbuild/R/R-beta-2024-04-15_r86425/bin/R CMD INSTALL LinkHD StartedAt: 2024-05-08 21:04:55 -0000 (Wed, 08 May 2024) EndedAt: 2024-05-08 21:05:31 -0000 (Wed, 08 May 2024) EllapsedTime: 36.7 seconds RetCode: 0 Status: OK