Package: LinTInd Version: 1.8.0 Command: rm -rf LinTInd.buildbin-libdir && mkdir LinTInd.buildbin-libdir && E:\biocbuild\bbs-3.19-bioc\R\bin\R.exe CMD INSTALL --build --library=LinTInd.buildbin-libdir LinTInd_1.8.0.tar.gz StartedAt: 2024-10-17 08:02:43 -0400 (Thu, 17 Oct 2024) EndedAt: 2024-10-17 08:03:20 -0400 (Thu, 17 Oct 2024) EllapsedTime: 37.0 seconds RetCode: 0 Status: OK PackageFile: LinTInd_1.8.0.zip PackageFileSize: 576.4 KiB