Package: LinTInd Version: 1.8.0 Command: /home/biocbuild/bbs-3.19-bioc/R/bin/R CMD INSTALL LinTInd StartedAt: 2024-10-16 16:17:11 -0400 (Wed, 16 Oct 2024) EndedAt: 2024-10-16 16:17:28 -0400 (Wed, 16 Oct 2024) EllapsedTime: 16.3 seconds RetCode: 0 Status: OK