Package: LinTInd Version: 1.8.0 Command: /Library/Frameworks/R.framework/Resources/bin/R CMD INSTALL LinTInd StartedAt: 2024-06-09 15:17:25 -0400 (Sun, 09 Jun 2024) EndedAt: 2024-06-09 15:17:48 -0400 (Sun, 09 Jun 2024) EllapsedTime: 22.6 seconds RetCode: 0 Status: OK