Package: LinTInd Version: 1.8.0 Command: /home/biocbuild/R/R-beta-2024-04-15_r86425/bin/R CMD build --keep-empty-dirs --no-resave-data LinTInd StartedAt: 2024-05-09 01:16:30 -0000 (Thu, 09 May 2024) EndedAt: 2024-05-09 01:17:31 -0000 (Thu, 09 May 2024) EllapsedTime: 61.1 seconds RetCode: 0 Status: OK PackageFile: LinTInd_1.8.0.tar.gz PackageFileSize: 1.493 MiB