Package: LedPred Version: 1.38.0 Command: E:\biocbuild\bbs-3.19-bioc\R\bin\R.exe CMD INSTALL LedPred StartedAt: 2024-10-16 16:52:42 -0400 (Wed, 16 Oct 2024) EndedAt: 2024-10-16 16:53:02 -0400 (Wed, 16 Oct 2024) EllapsedTime: 20.4 seconds RetCode: 0 Status: OK