Package: LedPred Version: 1.38.0 Command: chmod a+r LedPred -R && F:\biocbuild\bbs-3.19-bioc\R\bin\R.exe CMD build --keep-empty-dirs --no-resave-data LedPred StartedAt: 2024-06-26 19:43:31 -0400 (Wed, 26 Jun 2024) EndedAt: 2024-06-26 19:43:58 -0400 (Wed, 26 Jun 2024) EllapsedTime: 27.6 seconds RetCode: 0 Status: OK PackageFile: LedPred_1.38.0.tar.gz PackageFileSize: 1.333 MiB