Package: LedPred Version: 1.38.0 Command: /home/biocbuild/bbs-3.19-bioc/R/bin/R CMD build --keep-empty-dirs --no-resave-data LedPred StartedAt: 2024-10-16 19:10:59 -0400 (Wed, 16 Oct 2024) EndedAt: 2024-10-16 19:11:15 -0400 (Wed, 16 Oct 2024) EllapsedTime: 16.0 seconds RetCode: 0 Status: OK PackageFile: LedPred_1.38.0.tar.gz PackageFileSize: 1.331 MiB