Package: LedPred Version: 1.38.0 Command: /Library/Frameworks/R.framework/Resources/bin/R CMD build --keep-empty-dirs --no-resave-data LedPred StartedAt: 2024-10-16 20:22:58 -0400 (Wed, 16 Oct 2024) EndedAt: 2024-10-16 20:23:58 -0400 (Wed, 16 Oct 2024) EllapsedTime: 59.4 seconds RetCode: 0 Status: OK PackageFile: LedPred_1.38.0.tar.gz PackageFileSize: 1.463 MiB