Package: LRcell Version: 1.12.0 Command: E:\biocbuild\bbs-3.19-bioc\R\bin\R.exe CMD check --no-multiarch --install=check:LRcell.install-out.txt --library=E:\biocbuild\bbs-3.19-bioc\R\library --no-vignettes --timings LRcell_1.12.0.tar.gz StartedAt: 2024-10-17 02:49:34 -0400 (Thu, 17 Oct 2024) EndedAt: 2024-10-17 02:52:54 -0400 (Thu, 17 Oct 2024) EllapsedTime: 200.8 seconds RetCode: 0 Status: OK CheckDir: LRcell.Rcheck Warnings: 0