Package: LRcell Version: 1.12.0 Command: chmod a+r LRcell -R && E:\biocbuild\bbs-3.19-bioc\R\bin\R.exe CMD build --keep-empty-dirs --no-resave-data LRcell StartedAt: 2024-10-16 20:01:19 -0400 (Wed, 16 Oct 2024) EndedAt: 2024-10-16 20:02:42 -0400 (Wed, 16 Oct 2024) EllapsedTime: 84.0 seconds RetCode: 0 Status: OK PackageFile: LRcell_1.12.0.tar.gz PackageFileSize: 735.8 KiB