Package: LRcell Version: 1.12.0 Command: rm -rf LRcell.buildbin-libdir && mkdir LRcell.buildbin-libdir && F:\biocbuild\bbs-3.19-bioc\R\bin\R.exe CMD INSTALL --build --library=LRcell.buildbin-libdir LRcell_1.12.0.tar.gz StartedAt: 2024-06-27 08:26:05 -0400 (Thu, 27 Jun 2024) EndedAt: 2024-06-27 08:26:34 -0400 (Thu, 27 Jun 2024) EllapsedTime: 29.5 seconds RetCode: 0 Status: OK PackageFile: LRcell_1.12.0.zip PackageFileSize: 776.2 KiB