Package: LRcell Version: 1.12.0 Command: /home/biocbuild/bbs-3.19-bioc/R/bin/R CMD check --install=check:LRcell.install-out.txt --library=/home/biocbuild/bbs-3.19-bioc/R/site-library --timings LRcell_1.12.0.tar.gz StartedAt: 2024-10-17 01:56:13 -0400 (Thu, 17 Oct 2024) EndedAt: 2024-10-17 01:59:12 -0400 (Thu, 17 Oct 2024) EllapsedTime: 179.5 seconds RetCode: 0 Status: OK CheckDir: LRcell.Rcheck Warnings: 0