Package: LRcell Version: 1.12.0 Command: /Library/Frameworks/R.framework/Resources/bin/R CMD check --install=check:LRcell.install-out.txt --library=/Library/Frameworks/R.framework/Resources/library --no-vignettes --timings LRcell_1.12.0.tar.gz StartedAt: 2024-10-17 07:31:15 -0400 (Thu, 17 Oct 2024) EndedAt: 2024-10-17 07:37:25 -0400 (Thu, 17 Oct 2024) EllapsedTime: 370.2 seconds RetCode: 0 Status: OK CheckDir: LRcell.Rcheck Warnings: 0