Package: LRcell Version: 1.12.0 Command: /Library/Frameworks/R.framework/Resources/bin/R CMD build --keep-empty-dirs --no-resave-data LRcell StartedAt: 2024-10-16 20:26:41 -0400 (Wed, 16 Oct 2024) EndedAt: 2024-10-16 20:29:10 -0400 (Wed, 16 Oct 2024) EllapsedTime: 148.8 seconds RetCode: 0 Status: OK PackageFile: LRcell_1.12.0.tar.gz PackageFileSize: 1.036 MiB