Package: LRcell Version: 1.12.0 Command: /Library/Frameworks/R.framework/Resources/bin/R CMD check --install=check:LRcell.install-out.txt --library=/Library/Frameworks/R.framework/Resources/library --no-vignettes --timings LRcell_1.12.0.tar.gz StartedAt: 2024-06-09 21:13:50 -0400 (Sun, 09 Jun 2024) EndedAt: 2024-06-09 21:16:54 -0400 (Sun, 09 Jun 2024) EllapsedTime: 183.5 seconds RetCode: 0 Status: OK CheckDir: LRcell.Rcheck Warnings: 0