Package: LRcell Version: 1.12.0 Command: /home/biocbuild/R/R-beta-2024-04-15_r86425/bin/R CMD build --keep-empty-dirs --no-resave-data LRcell StartedAt: 2024-05-09 01:18:11 -0000 (Thu, 09 May 2024) EndedAt: 2024-05-09 01:19:46 -0000 (Thu, 09 May 2024) EllapsedTime: 94.1 seconds RetCode: 0 Status: OK PackageFile: LRcell_1.12.0.tar.gz PackageFileSize: 726 KiB