Package: LRcell Version: 1.12.0 Command: /Library/Frameworks/R.framework/Resources/bin/R CMD build --keep-empty-dirs --no-resave-data LRcell StartedAt: 2024-06-09 23:38:51 -0400 (Sun, 09 Jun 2024) EndedAt: 2024-06-09 23:40:19 -0400 (Sun, 09 Jun 2024) EllapsedTime: 87.8 seconds RetCode: 0 Status: OK PackageFile: LRcell_1.12.0.tar.gz PackageFileSize: 1.036 MiB