Package: LRcell Version: 1.12.0 Maintainer: Wenjing Ma MaintainerEmail: wenjing.ma at emory.edu git_url: https://git.bioconductor.org/packages/LRcell git_branch: RELEASE_3_19 git_last_commit: e4e483d git_last_commit_date: 2024-04-30 11:32:50 -0400 (Tue, 30 Apr 2024)