Package: LPE Version: 1.78.0 Command: E:\biocbuild\bbs-3.19-bioc\R\bin\R.exe CMD INSTALL LPE StartedAt: 2024-10-16 15:59:41 -0400 (Wed, 16 Oct 2024) EndedAt: 2024-10-16 16:00:07 -0400 (Wed, 16 Oct 2024) EllapsedTime: 25.9 seconds RetCode: 0 Status: OK