Package: LPE Version: 1.78.0 Command: chmod a+r LPE -R && E:\biocbuild\bbs-3.19-bioc\R\bin\R.exe CMD build --keep-empty-dirs --no-resave-data LPE StartedAt: 2024-10-16 20:00:57 -0400 (Wed, 16 Oct 2024) EndedAt: 2024-10-16 20:01:14 -0400 (Wed, 16 Oct 2024) EllapsedTime: 17.2 seconds RetCode: 0 Status: OK PackageFile: LPE_1.78.0.tar.gz PackageFileSize: 294.8 KiB