Package: LPE Version: 1.78.0 Command: rm -rf LPE.buildbin-libdir && mkdir LPE.buildbin-libdir && E:\biocbuild\bbs-3.19-bioc\R\bin\R.exe CMD INSTALL --build --library=LPE.buildbin-libdir LPE_1.78.0.tar.gz StartedAt: 2024-10-17 08:03:19 -0400 (Thu, 17 Oct 2024) EndedAt: 2024-10-17 08:03:27 -0400 (Thu, 17 Oct 2024) EllapsedTime: 8.6 seconds RetCode: 0 Status: OK PackageFile: LPE_1.78.0.zip PackageFileSize: 371.8 KiB