Package: LPE Version: 1.78.0 Command: /home/biocbuild/bbs-3.19-bioc/R/bin/R CMD INSTALL LPE StartedAt: 2024-10-16 15:49:51 -0400 (Wed, 16 Oct 2024) EndedAt: 2024-10-16 15:50:02 -0400 (Wed, 16 Oct 2024) EllapsedTime: 11.1 seconds RetCode: 0 Status: OK