Package: LPE Version: 1.78.0 Command: /home/biocbuild/bbs-3.19-bioc/R/bin/R CMD build --keep-empty-dirs --no-resave-data LPE StartedAt: 2024-10-16 19:13:04 -0400 (Wed, 16 Oct 2024) EndedAt: 2024-10-16 19:13:10 -0400 (Wed, 16 Oct 2024) EllapsedTime: 6.0 seconds RetCode: 0 Status: OK PackageFile: LPE_1.78.0.tar.gz PackageFileSize: 292.9 KiB