Package: LPE Version: 1.78.0 Command: /Library/Frameworks/R.framework/Resources/bin/R CMD build --keep-empty-dirs --no-resave-data LPE StartedAt: 2024-10-16 20:26:22 -0400 (Wed, 16 Oct 2024) EndedAt: 2024-10-16 20:26:47 -0400 (Wed, 16 Oct 2024) EllapsedTime: 24.6 seconds RetCode: 0 Status: OK PackageFile: LPE_1.78.0.tar.gz PackageFileSize: 436.7 KiB