Package: LPE Version: 1.78.0 Command: rm -rf LPE.buildbin-libdir && mkdir LPE.buildbin-libdir && /Users/biocbuild/BBS/utils/build-universal.sh LPE_1.78.0.tar.gz /Library/Frameworks/R.framework/Resources/bin/R LPE.buildbin-libdir StartedAt: 2024-06-10 00:24:43 -0400 (Mon, 10 Jun 2024) EndedAt: 2024-06-10 00:24:48 -0400 (Mon, 10 Jun 2024) EllapsedTime: 5.6 seconds RetCode: 0 Status: OK PackageFile: LPE_1.78.0.tgz PackageFileSize: 508.4 KiB