Package: LPE Version: 1.78.0 Command: /Library/Frameworks/R.framework/Resources/bin/R CMD INSTALL LPE StartedAt: 2024-10-16 15:36:49 -0400 (Wed, 16 Oct 2024) EndedAt: 2024-10-16 15:36:51 -0400 (Wed, 16 Oct 2024) EllapsedTime: 2.2 seconds RetCode: 0 Status: OK