Package: LOLA Version: 1.34.0 Command: F:\biocbuild\bbs-3.19-bioc\R\bin\R.exe CMD check --no-multiarch --install=check:LOLA.install-out.txt --library=F:\biocbuild\bbs-3.19-bioc\R\library --no-vignettes --timings LOLA_1.34.0.tar.gz StartedAt: 2024-06-27 03:05:57 -0400 (Thu, 27 Jun 2024) EndedAt: 2024-06-27 03:08:04 -0400 (Thu, 27 Jun 2024) EllapsedTime: 126.7 seconds RetCode: 0 Status: OK CheckDir: LOLA.Rcheck Warnings: 0