Package: LOLA Version: 1.34.0 Command: chmod a+r LOLA -R && F:\biocbuild\bbs-3.19-bioc\R\bin\R.exe CMD build --keep-empty-dirs --no-resave-data LOLA StartedAt: 2024-06-26 19:46:07 -0400 (Wed, 26 Jun 2024) EndedAt: 2024-06-26 19:46:41 -0400 (Wed, 26 Jun 2024) EllapsedTime: 34.4 seconds RetCode: 0 Status: OK PackageFile: LOLA_1.34.0.tar.gz PackageFileSize: 1.11 MiB