Package: LOLA Version: 1.34.0 Command: rm -rf LOLA.buildbin-libdir && mkdir LOLA.buildbin-libdir && F:\biocbuild\bbs-3.19-bioc\R\bin\R.exe CMD INSTALL --build --library=LOLA.buildbin-libdir LOLA_1.34.0.tar.gz StartedAt: 2024-06-27 08:25:53 -0400 (Thu, 27 Jun 2024) EndedAt: 2024-06-27 08:26:21 -0400 (Thu, 27 Jun 2024) EllapsedTime: 27.6 seconds RetCode: 0 Status: OK PackageFile: LOLA_1.34.0.zip PackageFileSize: 1.198 MiB