Package: LOLA Version: 1.34.0 Command: /Library/Frameworks/R.framework/Resources/bin/R CMD check --install=check:LOLA.install-out.txt --library=/Library/Frameworks/R.framework/Resources/library --no-vignettes --timings LOLA_1.34.0.tar.gz StartedAt: 2024-10-17 07:29:11 -0400 (Thu, 17 Oct 2024) EndedAt: 2024-10-17 07:33:07 -0400 (Thu, 17 Oct 2024) EllapsedTime: 236.3 seconds RetCode: 0 Status: OK CheckDir: LOLA.Rcheck Warnings: 0