Package: LOBSTAHS Version: 1.30.0 Command: rm -rf LOBSTAHS.buildbin-libdir && mkdir LOBSTAHS.buildbin-libdir && E:\biocbuild\bbs-3.19-bioc\R\bin\R.exe CMD INSTALL --build --library=LOBSTAHS.buildbin-libdir LOBSTAHS_1.30.0.tar.gz StartedAt: 2024-10-17 08:02:53 -0400 (Thu, 17 Oct 2024) EndedAt: 2024-10-17 08:04:12 -0400 (Thu, 17 Oct 2024) EllapsedTime: 78.7 seconds RetCode: 0 Status: OK PackageFile: LOBSTAHS_1.30.0.zip PackageFileSize: 2.009 MiB