Package: LOBSTAHS Version: 1.30.0 Command: rm -rf LOBSTAHS.buildbin-libdir && mkdir LOBSTAHS.buildbin-libdir && F:\biocbuild\bbs-3.19-bioc\R\bin\R.exe CMD INSTALL --build --library=LOBSTAHS.buildbin-libdir LOBSTAHS_1.30.0.tar.gz StartedAt: 2024-06-27 08:25:48 -0400 (Thu, 27 Jun 2024) EndedAt: 2024-06-27 08:26:57 -0400 (Thu, 27 Jun 2024) EllapsedTime: 68.6 seconds RetCode: 0 Status: OK PackageFile: LOBSTAHS_1.30.0.zip PackageFileSize: 2.009 MiB