Package: LOBSTAHS Version: 1.30.0 Command: /Library/Frameworks/R.framework/Resources/bin/R CMD INSTALL LOBSTAHS StartedAt: 2024-10-16 16:22:34 -0400 (Wed, 16 Oct 2024) EndedAt: 2024-10-16 16:24:22 -0400 (Wed, 16 Oct 2024) EllapsedTime: 107.5 seconds RetCode: 0 Status: OK