Package: LOBSTAHS Version: 1.30.0 Command: /Library/Frameworks/R.framework/Resources/bin/R CMD build --keep-empty-dirs --no-resave-data LOBSTAHS StartedAt: 2024-10-16 20:25:24 -0400 (Wed, 16 Oct 2024) EndedAt: 2024-10-16 20:28:03 -0400 (Wed, 16 Oct 2024) EllapsedTime: 158.8 seconds RetCode: 0 Status: OK PackageFile: LOBSTAHS_1.30.0.tar.gz PackageFileSize: 2.902 MiB