Package: LOBSTAHS Version: 1.30.0 Command: /home/biocbuild/R/R-beta-2024-04-15_r86425/bin/R CMD check --install=check:LOBSTAHS.install-out.txt --library=/home/biocbuild/R/R-beta-2024-04-15_r86425/site-library --no-vignettes --timings LOBSTAHS_1.30.0.tar.gz StartedAt: 2024-05-09 08:53:25 -0000 (Thu, 09 May 2024) EndedAt: 2024-05-09 09:00:31 -0000 (Thu, 09 May 2024) EllapsedTime: 425.9 seconds RetCode: 0 Status: WARNINGS CheckDir: LOBSTAHS.Rcheck Warnings: 1