Package: LOBSTAHS Version: 1.30.0 Command: /Library/Frameworks/R.framework/Resources/bin/R CMD INSTALL LOBSTAHS StartedAt: 2024-06-09 16:42:42 -0400 (Sun, 09 Jun 2024) EndedAt: 2024-06-09 16:43:49 -0400 (Sun, 09 Jun 2024) EllapsedTime: 67.2 seconds RetCode: 0 Status: OK