Package: LOBSTAHS Version: 1.30.0 Command: /Library/Frameworks/R.framework/Resources/bin/R CMD check --install=check:LOBSTAHS.install-out.txt --library=/Library/Frameworks/R.framework/Resources/library --no-vignettes --timings LOBSTAHS_1.30.0.tar.gz StartedAt: 2024-06-10 20:12:24 -0400 (Mon, 10 Jun 2024) EndedAt: 2024-06-10 20:21:49 -0400 (Mon, 10 Jun 2024) EllapsedTime: 564.5 seconds RetCode: 0 Status: WARNINGS CheckDir: LOBSTAHS.Rcheck Warnings: 1