Package: LOBSTAHS Version: 1.30.0 Command: rm -rf LOBSTAHS.buildbin-libdir && mkdir LOBSTAHS.buildbin-libdir && /Users/biocbuild/BBS/utils/build-universal.sh LOBSTAHS_1.30.0.tar.gz /Library/Frameworks/R.framework/Resources/bin/R LOBSTAHS.buildbin-libdir StartedAt: 2024-06-11 11:50:26 -0400 (Tue, 11 Jun 2024) EndedAt: 2024-06-11 11:51:51 -0400 (Tue, 11 Jun 2024) EllapsedTime: 85.3 seconds RetCode: 0 Status: OK PackageFile: LOBSTAHS_1.30.0.tgz PackageFileSize: 1.999 MiB