Package: LEA Version: 3.16.0 Command: F:\biocbuild\bbs-3.19-bioc\R\bin\R.exe CMD INSTALL LEA StartedAt: 2024-06-26 15:39:21 -0400 (Wed, 26 Jun 2024) EndedAt: 2024-06-26 15:40:03 -0400 (Wed, 26 Jun 2024) EllapsedTime: 42.7 seconds RetCode: 0 Status: OK