Package: LEA Version: 3.16.0 Command: rm -rf LEA.buildbin-libdir && mkdir LEA.buildbin-libdir && F:\biocbuild\bbs-3.19-bioc\R\bin\R.exe CMD INSTALL --build --library=LEA.buildbin-libdir LEA_3.16.0.tar.gz StartedAt: 2024-06-27 08:25:10 -0400 (Thu, 27 Jun 2024) EndedAt: 2024-06-27 08:26:09 -0400 (Thu, 27 Jun 2024) EllapsedTime: 58.7 seconds RetCode: 0 Status: OK PackageFile: LEA_3.16.0.zip PackageFileSize: 955.1 KiB