Package: LEA Version: 3.16.0 Command: /home/biocbuild/bbs-3.19-bioc/R/bin/R CMD build --keep-empty-dirs --no-resave-data LEA StartedAt: 2024-10-16 19:10:59 -0400 (Wed, 16 Oct 2024) EndedAt: 2024-10-16 19:12:32 -0400 (Wed, 16 Oct 2024) EllapsedTime: 92.2 seconds RetCode: 0 Status: OK PackageFile: LEA_3.16.0.tar.gz PackageFileSize: 740.3 KiB