Package: LEA Version: 3.16.0 Command: /Library/Frameworks/R.framework/Resources/bin/R CMD build --keep-empty-dirs --no-resave-data LEA StartedAt: 2024-10-16 20:22:55 -0400 (Wed, 16 Oct 2024) EndedAt: 2024-10-16 20:26:20 -0400 (Wed, 16 Oct 2024) EllapsedTime: 205.1 seconds RetCode: 0 Status: OK PackageFile: LEA_3.16.0.tar.gz PackageFileSize: 740.3 KiB