Package: LEA Version: 3.16.0 Command: /home/biocbuild/R/R-beta-2024-04-15_r86425/bin/R CMD build --keep-empty-dirs --no-resave-data LEA StartedAt: 2024-05-09 01:14:57 -0000 (Thu, 09 May 2024) EndedAt: 2024-05-09 01:16:56 -0000 (Thu, 09 May 2024) EllapsedTime: 119.2 seconds RetCode: 0 Status: OK PackageFile: LEA_3.16.0.tar.gz PackageFileSize: 732.7 KiB