Package: LBE Version: 1.72.0 Command: rm -rf LBE.buildbin-libdir && mkdir LBE.buildbin-libdir && F:\biocbuild\bbs-3.19-bioc\R\bin\R.exe CMD INSTALL --build --library=LBE.buildbin-libdir LBE_1.72.0.tar.gz StartedAt: 2024-06-27 08:25:06 -0400 (Thu, 27 Jun 2024) EndedAt: 2024-06-27 08:25:23 -0400 (Thu, 27 Jun 2024) EllapsedTime: 17.5 seconds RetCode: 0 Status: OK PackageFile: LBE_1.72.0.zip PackageFileSize: 816.4 KiB