Package: LBE Version: 1.72.0 Command: /Library/Frameworks/R.framework/Resources/bin/R CMD check --install=check:LBE.install-out.txt --library=/Library/Frameworks/R.framework/Resources/library --no-vignettes --timings LBE_1.72.0.tar.gz StartedAt: 2024-10-17 07:21:58 -0400 (Thu, 17 Oct 2024) EndedAt: 2024-10-17 07:22:46 -0400 (Thu, 17 Oct 2024) EllapsedTime: 47.5 seconds RetCode: 0 Status: OK CheckDir: LBE.Rcheck Warnings: 0