Package: LBE Version: 1.72.0 Command: /Library/Frameworks/R.framework/Resources/bin/R CMD build --keep-empty-dirs --no-resave-data LBE StartedAt: 2024-10-16 20:22:37 -0400 (Wed, 16 Oct 2024) EndedAt: 2024-10-16 20:22:58 -0400 (Wed, 16 Oct 2024) EllapsedTime: 21.1 seconds RetCode: 0 Status: OK PackageFile: LBE_1.72.0.tar.gz PackageFileSize: 784.1 KiB