Package: LBE Version: 1.72.0 Command: /Library/Frameworks/R.framework/Resources/bin/R CMD check --install=check:LBE.install-out.txt --library=/Library/Frameworks/R.framework/Resources/library --no-vignettes --timings LBE_1.72.0.tar.gz StartedAt: 2024-06-09 21:10:12 -0400 (Sun, 09 Jun 2024) EndedAt: 2024-06-09 21:10:42 -0400 (Sun, 09 Jun 2024) EllapsedTime: 30.2 seconds RetCode: 0 Status: OK CheckDir: LBE.Rcheck Warnings: 0