Package: LBE Version: 1.72.0 Command: rm -rf LBE.buildbin-libdir && mkdir LBE.buildbin-libdir && /Users/biocbuild/BBS/utils/build-universal.sh LBE_1.72.0.tar.gz /Library/Frameworks/R.framework/Resources/bin/R LBE.buildbin-libdir StartedAt: 2024-06-10 00:24:24 -0400 (Mon, 10 Jun 2024) EndedAt: 2024-06-10 00:24:28 -0400 (Mon, 10 Jun 2024) EllapsedTime: 4.5 seconds RetCode: 0 Status: OK PackageFile: LBE_1.72.0.tgz PackageFileSize: 811.9 KiB